BEGIN:VCALENDAR
VERSION:2.0
PRODID:-//Yoga Peace - ECPv6.7.1//NONSGML v1.0//EN
CALSCALE:GREGORIAN
METHOD:PUBLISH
X-WR-CALNAME:Yoga Peace
X-ORIGINAL-URL:https://yogapeace.co.uk
X-WR-CALDESC:Events for Yoga Peace
REFRESH-INTERVAL;VALUE=DURATION:PT1H
X-Robots-Tag:noindex
X-PUBLISHED-TTL:PT1H
BEGIN:VTIMEZONE
TZID:Asia/Kolkata
BEGIN:STANDARD
TZOFFSETFROM:+0530
TZOFFSETTO:+0530
TZNAME:IST
DTSTART:20240101T000000
END:STANDARD
END:VTIMEZONE
BEGIN:VEVENT
DTSTART;TZID=Asia/Kolkata:20241117T080000
DTEND;TZID=Asia/Kolkata:20241117T130000
DTSTAMP:20260423T073936
CREATED:20241103T025341Z
LAST-MODIFIED:20241103T040735Z
UID:6173-1731830400-1731848400@yogapeace.co.uk
SUMMARY:Yogacharya Dhakaram @ Hyderabad
DESCRIPTION:Yogacharya Dhakaram @ Hyderabad		\n				\n					\n		\n					\n		\n				\n						\n					\n			\n						\n				\n					\n					\n						\n						\n					\n			\n						\n				\n			\n	« All Events\n 		\n				\n				\n				\n			This event has passed. \n		\n				\n				\n				\n			\n	Yogacharya Dhakaram @ Hyderabad		\n				\n				\n				\n			\n		\n			November 17\n\n	\n\n	 @ \n\n\n8:00 am\n\n		\n\n\n\n	\n	 - \n\n\n1:00 pm\n\n\n\n	\n		\n				\n				\n				\n			Join Us Today!		\n				\n				\n				\n			\n	\n		\n				\n				\n						\n					\n			\n						\n				\n			\n				\n				\n	\n	Hyderabad\, Telengana\, India\n	\n	Address:\n	\n\nHyderabad\, Telengana\, India\n	\n		\n		Hyderabad\,\n\n	Telangana\n\n\n	India\n\n\n\n\n	+ Google Map \n\n\n	\n	Phone:\n					\n			+91 77373 71525			\n	 \n\n\n	\n	Website:\n	View Venue Website \n\n\n\n	\n\n\n\n		\n	\n		\n				\n					\n		\n				\n			\n						\n				\n			\n	\n	Organizer\n	YogaPeace Sansthan\n	\n	\n\n	Phone:\n					\n			+91 77373 71525			\n	 \n\n\n	\n\n	Website:View Organizer Website \n\n\n	\n	Email:\n					\n			yogapeacejaipur@gmail.com			\n	 \n\n\n\n		\n				\n					\n		\n					\n		\n				\n						\n					\n			\n						\n				\n			\n	\n	Website:	\n	https://yogapeace.org/\n\n		\n				\n					\n		\n				\n			\n						\n				\n			\n	\n	Organizer\n	YogaPeace Sansthan\n	\n	\n\n	Phone:\n					\n			+91 77373 71525			\n	 \n\n\n	\n\n	Website:View Organizer Website \n\n\n	\n	Email:\n					\n			yogapeacejaipur@gmail.com			\n	 \n\n\n\n		\n				\n					\n		\n					\n		\n				\n						\n					\n			\n						\n				\n			\n				\n				\n	\n	Hyderabad\, Telengana\, India\n	\n	Address:\n	\n\nHyderabad\, Telengana\, India\n	\n		\n		Hyderabad\,\n\n	Telangana\n\n\n	India\n\n\n\n\n	+ Google Map \n\n\n	\n	Phone:\n					\n			+91 77373 71525			\n	 \n\n\n	\n	Website:\n	View Venue Website \n\n\n\n	\n\n\n\n		\n	\n		\n				\n					\n		\n					\n		\n				\n						\n					\n			\n						\n				\n			\n	\n		\n\n	\n	Add to calendar	\n		\n	\n\n		\n			\n									\n	Google Calendar\n\n									\n	iCalendar\n\n									\n	Outlook 365\n\n									\n	Outlook Live\n\n							\n		\n\n		\n	\n\n		\n				\n					\n		\n					\n		\n				\n						\n					\n			\n						\n				\n			\n	\n		\n		\n	\n		Shivshakti Mahayagya
URL:https://yogapeace.co.uk/event/yogacharya-dhakaram-hyderabad/
LOCATION:Hyderabad\, Telengana\, India\, Hyderabad\, Telengana\, India\, Hyderabad\, Telangana\, India
ATTACH;FMTTYPE=image/jpeg:https://yogapeace.co.uk/wp-content/uploads/2024/11/Hydeabad_17-Nov-2024.jpg
ORGANIZER;CN="YogaPeace Sansthan":MAILTO:yogapeacejaipur@gmail.com
END:VEVENT
END:VCALENDAR